BEGIN:VCALENDAR
VERSION:2.0
PRODID:-//Islington United Church - ECPv6.15.20//NONSGML v1.0//EN
CALSCALE:GREGORIAN
METHOD:PUBLISH
X-ORIGINAL-URL:https://islingtonunited.org
X-WR-CALDESC:Events for Islington United Church
REFRESH-INTERVAL;VALUE=DURATION:PT1H
X-Robots-Tag:noindex
X-PUBLISHED-TTL:PT1H
BEGIN:VTIMEZONE
TZID:America/Toronto
BEGIN:DAYLIGHT
TZOFFSETFROM:-0500
TZOFFSETTO:-0400
TZNAME:EDT
DTSTART:20250309T070000
END:DAYLIGHT
BEGIN:STANDARD
TZOFFSETFROM:-0400
TZOFFSETTO:-0500
TZNAME:EST
DTSTART:20251102T060000
END:STANDARD
BEGIN:DAYLIGHT
TZOFFSETFROM:-0500
TZOFFSETTO:-0400
TZNAME:EDT
DTSTART:20260308T070000
END:DAYLIGHT
BEGIN:STANDARD
TZOFFSETFROM:-0400
TZOFFSETTO:-0500
TZNAME:EST
DTSTART:20261101T060000
END:STANDARD
BEGIN:DAYLIGHT
TZOFFSETFROM:-0500
TZOFFSETTO:-0400
TZNAME:EDT
DTSTART:20270314T070000
END:DAYLIGHT
BEGIN:STANDARD
TZOFFSETFROM:-0400
TZOFFSETTO:-0500
TZNAME:EST
DTSTART:20271107T060000
END:STANDARD
END:VTIMEZONE
BEGIN:VEVENT
DTSTART;TZID=America/Toronto:20260422T190000
DTEND;TZID=America/Toronto:20260422T210000
DTSTAMP:20260425T063653
CREATED:20260226T165023Z
LAST-MODIFIED:20260304T140832Z
UID:73883-1776884400-1776891600@islingtonunited.org
SUMMARY:Life After Loss
DESCRIPTION:This grief education and support program has been offered annually since 2015 and is designed for those who are dealing with the death of a loved one. Taking a faith-based perspective\, we will explore various aspects of grief\, how it affects one’s emotions\, behaviours\, body\, mind and spirit. We will look at tasks one can do and adjustments one can make to move through grief\, and help find ways to reinvest in life in meaningful ways. \nThe program will include “When Life Changes” videos and course materials provided by Dr. Bill Webster\, Centre for the Grief Journey\, and Arbor Memorial. \nPlease enable JavaScript in your browser to complete this form.Register for Life After LossName *FirstLastYour Phone NumberYour Email *Your AddressAddress Line 1CityState / Province / RegionPostal CodeAfghanistanAlbaniaAlgeriaAmerican SamoaAndorraAngolaAnguillaAntarcticaAntigua and BarbudaArgentinaArmeniaArubaAustraliaAustriaAzerbaijanBahamasBahrainBangladeshBarbadosBelarusBelgiumBelizeBeninBermudaBhutanBolivia (Plurinational State of)Bonaire\, Saint Eustatius and SabaBosnia and HerzegovinaBotswanaBouvet IslandBrazilBritish Indian Ocean TerritoryBrunei DarussalamBulgariaBurkina FasoBurundiCabo VerdeCambodiaCameroonCanadaCayman IslandsCentral African RepublicChadChileChinaChristmas IslandCocos (Keeling) IslandsColombiaComorosCongoCongo (Democratic Republic of the)Cook IslandsCosta RicaCroatiaCubaCuraçaoCyprusCzech RepublicCôte d'IvoireDenmarkDjiboutiDominicaDominican RepublicEcuadorEgyptEl SalvadorEquatorial GuineaEritreaEstoniaEswatini (Kingdom of)EthiopiaFalkland Islands (Malvinas)Faroe IslandsFijiFinlandFranceFrench GuianaFrench PolynesiaFrench Southern TerritoriesGabonGambiaGeorgiaGermanyGhanaGibraltarGreeceGreenlandGrenadaGuadeloupeGuamGuatemalaGuernseyGuineaGuinea-BissauGuyanaHaitiHeard Island and McDonald IslandsHondurasHong KongHungaryIcelandIndiaIndonesiaIran (Islamic Republic of)IraqIreland (Republic of)Isle of ManIsraelItalyJamaicaJapanJerseyJordanKazakhstanKenyaKiribatiKorea (Democratic People's Republic of)Korea (Republic of)KosovoKuwaitKyrgyzstanLao People's Democratic RepublicLatviaLebanonLesothoLiberiaLibyaLiechtensteinLithuaniaLuxembourgMacaoMadagascarMalawiMalaysiaMaldivesMaliMaltaMarshall IslandsMartiniqueMauritaniaMauritiusMayotteMexicoMicronesia (Federated States of)Moldova (Republic of)MonacoMongoliaMontenegroMontserratMoroccoMozambiqueMyanmarNamibiaNauruNepalNetherlandsNew CaledoniaNew ZealandNicaraguaNigerNigeriaNiueNorfolk IslandNorth Macedonia (Republic of)Northern Mariana IslandsNorwayOmanPakistanPalauPalestine (State of)PanamaPapua New GuineaParaguayPeruPhilippinesPitcairnPolandPortugalPuerto RicoQatarRomaniaRussian FederationRwandaRéunionSaint BarthélemySaint Helena\, Ascension and Tristan da CunhaSaint Kitts and NevisSaint LuciaSaint Martin (French part)Saint Pierre and MiquelonSaint Vincent and the GrenadinesSamoaSan MarinoSao Tome and PrincipeSaudi ArabiaSenegalSerbiaSeychellesSierra LeoneSingaporeSint Maarten (Dutch part)SlovakiaSloveniaSolomon IslandsSomaliaSouth AfricaSouth Georgia and the South Sandwich IslandsSouth SudanSpainSri LankaSudanSurinameSvalbard and Jan MayenSwedenSwitzerlandSyrian Arab RepublicTaiwan\, Republic of ChinaTajikistanTanzania (United Republic of)ThailandTimor-LesteTogoTokelauTongaTrinidad and TobagoTunisiaTurkmenistanTurks and Caicos IslandsTuvaluTürkiyeUgandaUkraineUnited Arab EmiratesUnited Kingdom of Great Britain and Northern IrelandUnited States Minor Outlying IslandsUnited States of AmericaUruguayUzbekistanVanuatuVatican City StateVenezuela (Bolivarian Republic of)VietnamVirgin Islands (British)Virgin Islands (U.S.)Wallis and FutunaWestern SaharaYemenZambiaZimbabweÅland IslandsCountryHow long ago did your loss occur? *What was your relationship to your deceased loved one (e.g.\, spouse\, parent\, sibling\, friend\, etc.) *What church are you affiliated with\, if any? *SelectHumber ValleyIslingtonRoyal York RoadRunnymedeOtherPlease note the name of the church belowRegistration Fee AmountThe registration cost is $20.00. If cost is a barrier to attend\, please select financial support below. A member of our church will contact you in a confidential manner.Financial supportRequestedRegistration (I understand that payment for Life After Loss is received by cash at the first session) *Life After Loss - $20.00Total$0.00Submit Registration   \nShare:\n				Share on Facebook (Opens in new window)\n				Facebook\n			\n				Share on X (Opens in new window)\n				X\n			\n				Email a link to a friend (Opens in new window)\n				Email\n			\n				Print (Opens in new window)\n				Print\n			Like this:Like Loading...
URL:https://islingtonunited.org/event/life-after-loss/
LOCATION:Islington United Church
ATTACH;FMTTYPE=image/png:https://islingtonunited.org/wp-content/uploads/2026/03/LIFE-AFTER-LOSS-600-×-400-px-3.png
END:VEVENT
BEGIN:VEVENT
DTSTART;TZID=America/Toronto:20260428T190000
DTEND;TZID=America/Toronto:20260428T200000
DTSTAMP:20260425T063653
CREATED:20260423T135158Z
LAST-MODIFIED:20260423T135158Z
UID:74566-1777402800-1777406400@islingtonunited.org
SUMMARY:Islington Reads
DESCRIPTION:On April 28 at 7 pm we will welcome the well-known American author Lisa See to Islington Reads on Zoom. Lisa is an award-winning author of Chinese American descent who lives in Los Angeles. We will be discussing her book The Island of Sea Women\, a book about the haenyeo women of Korea spanning the time between the Second World War and the present time. Registration is open to all and can be accessed through https://islingtonunited.org/islington-reads/ The Zoom link will be emailed to all previously registered participants and to new participants upon registering. All are welcome!  \nWe hope to see you there! \nShare:\n				Share on Facebook (Opens in new window)\n				Facebook\n			\n				Share on X (Opens in new window)\n				X\n			\n				Email a link to a friend (Opens in new window)\n				Email\n			\n				Print (Opens in new window)\n				Print\n			Like this:Like Loading...
URL:https://islingtonunited.org/event/islington-reads-4/
LOCATION:Zoom
CATEGORIES:All Events,Islington Reads,Online,Programs
ATTACH;FMTTYPE=image/png:https://islingtonunited.org/wp-content/uploads/2026/04/2026.04.28-Islington-reads.png
END:VEVENT
BEGIN:VEVENT
DTSTART;TZID=America/Toronto:20260429T190000
DTEND;TZID=America/Toronto:20260429T210000
DTSTAMP:20260425T063653
CREATED:20260226T171142Z
LAST-MODIFIED:20260226T171750Z
UID:73888-1777489200-1777496400@islingtonunited.org
SUMMARY:Life After Loss
DESCRIPTION:This grief education and support program has been offered annually since 2015 and is designed for those who are dealing with the death of a loved one. Taking a faith-based perspective\, we will explore various aspects of grief\, how it affects one’s emotions\, behaviours\, body\, mind and spirit. We will look at tasks one can do and adjustments one can make to move through grief\, and help find ways to reinvest in life in meaningful ways. \nThe program will include “When Life Changes” videos and course materials provided by Dr. Bill Webster\, Centre for the Grief Journey\, and Arbor Memorial. \nShare:\n				Share on Facebook (Opens in new window)\n				Facebook\n			\n				Share on X (Opens in new window)\n				X\n			\n				Email a link to a friend (Opens in new window)\n				Email\n			\n				Print (Opens in new window)\n				Print\n			Like this:Like Loading...
URL:https://islingtonunited.org/event/life-after-loss-2/
LOCATION:Islington United Church
ATTACH;FMTTYPE=image/png:https://islingtonunited.org/wp-content/uploads/2026/02/LIFE-AFTER-LOSS-600-×-400-px-1.png
END:VEVENT
BEGIN:VEVENT
DTSTART;TZID=America/Toronto:20260430T171500
DTEND;TZID=America/Toronto:20260430T184500
DTSTAMP:20260425T063653
CREATED:20241217T161051Z
LAST-MODIFIED:20260423T161704Z
UID:68948-1777569300-1777574700@islingtonunited.org
SUMMARY:Children's Chorus and Family Dinner
DESCRIPTION:Children ages 6+ are welcome to join us for children’s chorus. Rehearsal take place on Thursday evening with dinner for the whole family starting at 5:15pm and rehearsal from 5:45-6:45pm. Newcomers are welcome! Please reach out to Brianna Coutlee at families@islingtonunited.org if you would like to participate in our spring season. \nShare:\n				Share on Facebook (Opens in new window)\n				Facebook\n			\n				Share on X (Opens in new window)\n				X\n			\n				Email a link to a friend (Opens in new window)\n				Email\n			\n				Print (Opens in new window)\n				Print\n			Like this:Like Loading...
URL:https://islingtonunited.org/event/childrens-chorus-2/
LOCATION:Islington United Church
CATEGORIES:Children,Choir,Chorus,Family,In Person,Music,Programs
ATTACH;FMTTYPE=image/png:https://islingtonunited.org/wp-content/uploads/2024/12/childrens-chorus.png
ORGANIZER;CN="Jason Locke":MAILTO:jason@islingtonunited.org
END:VEVENT
BEGIN:VEVENT
DTSTART;TZID=America/Toronto:20260503T120000
DTEND;TZID=America/Toronto:20260503T130000
DTSTAMP:20260425T063653
CREATED:20260422T201059Z
LAST-MODIFIED:20260422T201059Z
UID:74548-1777809600-1777813200@islingtonunited.org
SUMMARY:New Member Information Session
DESCRIPTION:Share:\n				Share on Facebook (Opens in new window)\n				Facebook\n			\n				Share on X (Opens in new window)\n				X\n			\n				Email a link to a friend (Opens in new window)\n				Email\n			\n				Print (Opens in new window)\n				Print\n			Like this:Like Loading...
URL:https://islingtonunited.org/event/new-member-information-session/
LOCATION:Islington United Church
ATTACH;FMTTYPE=image/png:https://islingtonunited.org/wp-content/uploads/2026/04/Being-Belonging-Becoming-11-x-17-in-1920-x-1080-px-600-x-400-px.png
ORGANIZER;CN="Rev. Maya Landell":MAILTO:ministry@islingtonunited.org
END:VEVENT
BEGIN:VEVENT
DTSTART;TZID=America/Toronto:20260503T173000
DTEND;TZID=America/Toronto:20260503T200000
DTSTAMP:20260425T063653
CREATED:20250910T200829Z
LAST-MODIFIED:20250910T200829Z
UID:72380-1777829400-1777838400@islingtonunited.org
SUMMARY:Resonance
DESCRIPTION:All are welcome to join us for dinner at 5:30pm followed by a contemporary worship service at 7:00pm. \nShare:\n				Share on Facebook (Opens in new window)\n				Facebook\n			\n				Share on X (Opens in new window)\n				X\n			\n				Email a link to a friend (Opens in new window)\n				Email\n			\n				Print (Opens in new window)\n				Print\n			Like this:Like Loading...
URL:https://islingtonunited.org/event/resonance-11/
LOCATION:Burnhamthorpe Campus\, 25 Burnhamthorpe Road\, Etobicoke\, ON\, M9A 1G9\, Canada
CATEGORIES:All Events,Community Event,In Person,Music,Resonance,Worship Service,Young Adult
ATTACH;FMTTYPE=image/png:https://islingtonunited.org/wp-content/uploads/2024/11/resonanc.png
END:VEVENT
BEGIN:VEVENT
DTSTART;TZID=America/Toronto:20260505T120000
DTEND;TZID=America/Toronto:20260505T143000
DTSTAMP:20260425T063653
CREATED:20250916T151442Z
LAST-MODIFIED:20251218T204639Z
UID:72486-1777982400-1777991400@islingtonunited.org
SUMMARY:Bridge
DESCRIPTION:Join the Bridge group on Tuesday from noon to 2:30 pm in the Chapel to play some cards. Some experience required; the group will not be teaching how to play bridge. \nShare:\n				Share on Facebook (Opens in new window)\n				Facebook\n			\n				Share on X (Opens in new window)\n				X\n			\n				Email a link to a friend (Opens in new window)\n				Email\n			\n				Print (Opens in new window)\n				Print\n			Like this:Like Loading...
URL:https://islingtonunited.org/event/bridge-14/
LOCATION:Burnhamthorpe Campus\, 25 Burnhamthorpe Road\, Etobicoke\, ON\, M9A 1G9\, Canada
CATEGORIES:All Events,In Person,Programs,Seniors
ATTACH;FMTTYPE=image/png:https://islingtonunited.org/wp-content/uploads/2025/09/Bridge-1.png
END:VEVENT
BEGIN:VEVENT
DTSTART;TZID=America/Toronto:20260509T170000
DTEND;TZID=America/Toronto:20260509T230000
DTSTAMP:20260425T063653
CREATED:20260401T182038Z
LAST-MODIFIED:20260423T174127Z
UID:74315-1778346000-1778367600@islingtonunited.org
SUMMARY:Annual Fundraiser: A Secret Garden
DESCRIPTION:Join us on May 9 for an evening of fun and mystery at our annual fundraiser: A Secret Garden. Appetizers will be served at 5:30pm\, followed by dinner at 6:30pm. There will be a silent auction and live music and entertainment. \nA Secret Garden is a fundraiser supporting the many ministries and programs at Islington United Church.  \n*SOLD OUT* \nShare:\n				Share on Facebook (Opens in new window)\n				Facebook\n			\n				Share on X (Opens in new window)\n				X\n			\n				Email a link to a friend (Opens in new window)\n				Email\n			\n				Print (Opens in new window)\n				Print\n			Like this:Like Loading...
URL:https://islingtonunited.org/event/annual-fundraiser-a-secret-garden/
LOCATION:Islington United Church
ATTACH;FMTTYPE=image/png:https://islingtonunited.org/wp-content/uploads/2026/04/Secret-Garden-Heather-600-x-400-px.png
END:VEVENT
BEGIN:VEVENT
DTSTART;TZID=America/Toronto:20260513T190000
DTEND;TZID=America/Toronto:20260513T210000
DTSTAMP:20260425T063653
CREATED:20260226T172037Z
LAST-MODIFIED:20260226T172037Z
UID:73891-1778698800-1778706000@islingtonunited.org
SUMMARY:Life After Loss
DESCRIPTION:This grief education and support program has been offered annually since 2015 and is designed for those who are dealing with the death of a loved one. Taking a faith-based perspective\, we will explore various aspects of grief\, how it affects one’s emotions\, behaviours\, body\, mind and spirit. We will look at tasks one can do and adjustments one can make to move through grief\, and help find ways to reinvest in life in meaningful ways. \nThe program will include “When Life Changes” videos and course materials provided by Dr. Bill Webster\, Centre for the Grief Journey\, and Arbor Memorial. \nShare:\n				Share on Facebook (Opens in new window)\n				Facebook\n			\n				Share on X (Opens in new window)\n				X\n			\n				Email a link to a friend (Opens in new window)\n				Email\n			\n				Print (Opens in new window)\n				Print\n			Like this:Like Loading...
URL:https://islingtonunited.org/event/life-after-loss-3/
LOCATION:Islington United Church
ATTACH;FMTTYPE=image/png:https://islingtonunited.org/wp-content/uploads/2026/02/LIFE-AFTER-LOSS-600-×-400-px-1.png
END:VEVENT
BEGIN:VEVENT
DTSTART;TZID=America/Toronto:20260520T190000
DTEND;TZID=America/Toronto:20260520T210000
DTSTAMP:20260425T063653
CREATED:20260226T172228Z
LAST-MODIFIED:20260226T172228Z
UID:73894-1779303600-1779310800@islingtonunited.org
SUMMARY:Life After Loss
DESCRIPTION:This grief education and support program has been offered annually since 2015 and is designed for those who are dealing with the death of a loved one. Taking a faith-based perspective\, we will explore various aspects of grief\, how it affects one’s emotions\, behaviours\, body\, mind and spirit. We will look at tasks one can do and adjustments one can make to move through grief\, and help find ways to reinvest in life in meaningful ways. \nThe program will include “When Life Changes” videos and course materials provided by Dr. Bill Webster\, Centre for the Grief Journey\, and Arbor Memorial. \nShare:\n				Share on Facebook (Opens in new window)\n				Facebook\n			\n				Share on X (Opens in new window)\n				X\n			\n				Email a link to a friend (Opens in new window)\n				Email\n			\n				Print (Opens in new window)\n				Print\n			Like this:Like Loading...
URL:https://islingtonunited.org/event/life-after-loss-4/
LOCATION:Islington United Church
ATTACH;FMTTYPE=image/png:https://islingtonunited.org/wp-content/uploads/2026/02/LIFE-AFTER-LOSS-600-×-400-px-1-1.png
END:VEVENT
BEGIN:VEVENT
DTSTART;TZID=America/Toronto:20260527T080000
DTEND;TZID=America/Toronto:20260527T170000
DTSTAMP:20260425T063653
CREATED:20260226T172417Z
LAST-MODIFIED:20260226T172417Z
UID:73898-1779868800-1779901200@islingtonunited.org
SUMMARY:Life After Loss
DESCRIPTION:This grief education and support program has been offered annually since 2015 and is designed for those who are dealing with the death of a loved one. Taking a faith-based perspective\, we will explore various aspects of grief\, how it affects one’s emotions\, behaviours\, body\, mind and spirit. We will look at tasks one can do and adjustments one can make to move through grief\, and help find ways to reinvest in life in meaningful ways. \nThe program will include “When Life Changes” videos and course materials provided by Dr. Bill Webster\, Centre for the Grief Journey\, and Arbor Memorial. \nShare:\n				Share on Facebook (Opens in new window)\n				Facebook\n			\n				Share on X (Opens in new window)\n				X\n			\n				Email a link to a friend (Opens in new window)\n				Email\n			\n				Print (Opens in new window)\n				Print\n			Like this:Like Loading...
URL:https://islingtonunited.org/event/life-after-loss-5/
LOCATION:Islington United Church
ATTACH;FMTTYPE=image/png:https://islingtonunited.org/wp-content/uploads/2026/02/LIFE-AFTER-LOSS-600-×-400-px-1-2.png
END:VEVENT
BEGIN:VEVENT
DTSTART;TZID=America/Toronto:20260603T190000
DTEND;TZID=America/Toronto:20260603T210000
DTSTAMP:20260425T063653
CREATED:20260226T172532Z
LAST-MODIFIED:20260226T172728Z
UID:73902-1780513200-1780520400@islingtonunited.org
SUMMARY:Life After Loss
DESCRIPTION:This grief education and support program has been offered annually since 2015 and is designed for those who are dealing with the death of a loved one. Taking a faith-based perspective\, we will explore various aspects of grief\, how it affects one’s emotions\, behaviours\, body\, mind and spirit. We will look at tasks one can do and adjustments one can make to move through grief\, and help find ways to reinvest in life in meaningful ways. \nThe program will include “When Life Changes” videos and course materials provided by Dr. Bill Webster\, Centre for the Grief Journey\, and Arbor Memorial. \nShare:\n				Share on Facebook (Opens in new window)\n				Facebook\n			\n				Share on X (Opens in new window)\n				X\n			\n				Email a link to a friend (Opens in new window)\n				Email\n			\n				Print (Opens in new window)\n				Print\n			Like this:Like Loading...
URL:https://islingtonunited.org/event/life-after-loss-6/
LOCATION:Islington United Church
ATTACH;FMTTYPE=image/png:https://islingtonunited.org/wp-content/uploads/2026/02/LIFE-AFTER-LOSS-600-×-400-px-1-2.png
END:VEVENT
BEGIN:VEVENT
DTSTART;TZID=America/Toronto:20260607T173000
DTEND;TZID=America/Toronto:20260607T190000
DTSTAMP:20260425T063653
CREATED:20250910T200937Z
LAST-MODIFIED:20260225T151422Z
UID:72382-1780853400-1780858800@islingtonunited.org
SUMMARY:Resonance
DESCRIPTION:All are welcome to join us for dinner at 5:30pm followed by a contemporary worship service at 7:00pm. \n \n			\n				\n				\n				\n				\n				\n			\n			\n				\n				\n				\n				\n			\n				\n				\n			\nShare:\n				Share on Facebook (Opens in new window)\n				Facebook\n			\n				Share on X (Opens in new window)\n				X\n			\n				Email a link to a friend (Opens in new window)\n				Email\n			\n				Print (Opens in new window)\n				Print\n			Like this:Like Loading...
URL:https://islingtonunited.org/event/resonance-12/
LOCATION:Burnhamthorpe Campus\, 25 Burnhamthorpe Road\, Etobicoke\, ON\, M9A 1G9\, Canada
CATEGORIES:All Events,Community Event,In Person,Music,Resonance,Worship Service,Young Adult
ATTACH;FMTTYPE=image/png:https://islingtonunited.org/wp-content/uploads/2024/11/resonanc.png
END:VEVENT
END:VCALENDAR