BEGIN:VCALENDAR
VERSION:2.0
PRODID:-//Islington United Church - ECPv6.15.20//NONSGML v1.0//EN
CALSCALE:GREGORIAN
METHOD:PUBLISH
X-WR-CALNAME:Islington United Church
X-ORIGINAL-URL:https://islingtonunited.org
X-WR-CALDESC:Events for Islington United Church
REFRESH-INTERVAL;VALUE=DURATION:PT1H
X-Robots-Tag:noindex
X-PUBLISHED-TTL:PT1H
BEGIN:VTIMEZONE
TZID:America/Toronto
BEGIN:DAYLIGHT
TZOFFSETFROM:-0500
TZOFFSETTO:-0400
TZNAME:EDT
DTSTART:20230312T070000
END:DAYLIGHT
BEGIN:STANDARD
TZOFFSETFROM:-0400
TZOFFSETTO:-0500
TZNAME:EST
DTSTART:20231105T060000
END:STANDARD
BEGIN:DAYLIGHT
TZOFFSETFROM:-0500
TZOFFSETTO:-0400
TZNAME:EDT
DTSTART:20240310T070000
END:DAYLIGHT
BEGIN:STANDARD
TZOFFSETFROM:-0400
TZOFFSETTO:-0500
TZNAME:EST
DTSTART:20241103T060000
END:STANDARD
BEGIN:DAYLIGHT
TZOFFSETFROM:-0500
TZOFFSETTO:-0400
TZNAME:EDT
DTSTART:20250309T070000
END:DAYLIGHT
BEGIN:STANDARD
TZOFFSETFROM:-0400
TZOFFSETTO:-0500
TZNAME:EST
DTSTART:20251102T060000
END:STANDARD
BEGIN:DAYLIGHT
TZOFFSETFROM:-0500
TZOFFSETTO:-0400
TZNAME:EDT
DTSTART:20260308T070000
END:DAYLIGHT
BEGIN:STANDARD
TZOFFSETFROM:-0400
TZOFFSETTO:-0500
TZNAME:EST
DTSTART:20261101T060000
END:STANDARD
END:VTIMEZONE
BEGIN:VEVENT
DTSTART;TZID=America/Toronto:20251111T100000
DTEND;TZID=America/Toronto:20251111T120000
DTSTAMP:20260420T081202
CREATED:20250910T193310Z
LAST-MODIFIED:20250910T193326Z
UID:72325-1762855200-1762862400@islingtonunited.org
SUMMARY:Stitch Together
DESCRIPTION:On Tuesdays from 10 to noon\, join our knitters and crocheters to work on your projects and socialize. Newcomers are always welcome. For more information about this program\, reach out to ministry@islingtonunited.org. \nShare:\n				Share on Facebook (Opens in new window)\n				Facebook\n			\n				Share on X (Opens in new window)\n				X\n			\n				Email a link to a friend (Opens in new window)\n				Email\n			\n				Print (Opens in new window)\n				Print\n			Like this:Like Loading...
URL:https://islingtonunited.org/event/stitch-together-8/
LOCATION:Burnhamthorpe Campus\, 25 Burnhamthorpe Road\, Etobicoke\, ON\, M9A 1G9\, Canada
CATEGORIES:All Events,In Person,Programs,Seniors
END:VEVENT
BEGIN:VEVENT
DTSTART;TZID=America/Toronto:20251028T100000
DTEND;TZID=America/Toronto:20251028T120000
DTSTAMP:20260420T081202
CREATED:20250910T193214Z
LAST-MODIFIED:20250910T193214Z
UID:72323-1761645600-1761652800@islingtonunited.org
SUMMARY:Stitch Together
DESCRIPTION:On Tuesdays from 10 to noon\, join our knitters and crocheters to work on your projects and socialize. Newcomers are always welcome. For more information about this program\, reach out to ministry@islingtonunited.org. \nShare:\n				Share on Facebook (Opens in new window)\n				Facebook\n			\n				Share on X (Opens in new window)\n				X\n			\n				Email a link to a friend (Opens in new window)\n				Email\n			\n				Print (Opens in new window)\n				Print\n			Like this:Like Loading...
URL:https://islingtonunited.org/event/stitch-together-7/
LOCATION:Burnhamthorpe Campus\, 25 Burnhamthorpe Road\, Etobicoke\, ON\, M9A 1G9\, Canada
CATEGORIES:All Events,In Person,Programs,Seniors
ATTACH;FMTTYPE=image/png:https://islingtonunited.org/wp-content/uploads/2025/09/Stitch-Together.png
END:VEVENT
BEGIN:VEVENT
DTSTART;TZID=America/Toronto:20251021T100000
DTEND;TZID=America/Toronto:20251021T120000
DTSTAMP:20260420T081202
CREATED:20250910T193122Z
LAST-MODIFIED:20250910T193122Z
UID:72321-1761040800-1761048000@islingtonunited.org
SUMMARY:Stitch Together
DESCRIPTION:On Tuesdays from 10 to noon\, join our knitters and crocheters to work on your projects and socialize. Newcomers are always welcome. For more information about this program\, reach out to ministry@islingtonunited.org. \nShare:\n				Share on Facebook (Opens in new window)\n				Facebook\n			\n				Share on X (Opens in new window)\n				X\n			\n				Email a link to a friend (Opens in new window)\n				Email\n			\n				Print (Opens in new window)\n				Print\n			Like this:Like Loading...
URL:https://islingtonunited.org/event/stitch-together-6/
LOCATION:Burnhamthorpe Campus\, 25 Burnhamthorpe Road\, Etobicoke\, ON\, M9A 1G9\, Canada
CATEGORIES:All Events,In Person,Programs,Seniors
ATTACH;FMTTYPE=image/png:https://islingtonunited.org/wp-content/uploads/2025/09/Stitch-Together.png
END:VEVENT
BEGIN:VEVENT
DTSTART;TZID=America/Toronto:20251017T183000
DTEND;TZID=America/Toronto:20251017T203000
DTSTAMP:20260420T081202
CREATED:20250910T162942Z
LAST-MODIFIED:20250910T162942Z
UID:72145-1760725800-1760733000@islingtonunited.org
SUMMARY:Board Game Cafe
DESCRIPTION:All ages are welcome to join from 6:30pm to 8:30pm in the youth room for snacks and board games! Feel free to bring your favourite game or come try a new one! Get to know the community over a friendly (or competitive) game.\n\nShare:\n				Share on Facebook (Opens in new window)\n				Facebook\n			\n				Share on X (Opens in new window)\n				X\n			\n				Email a link to a friend (Opens in new window)\n				Email\n			\n				Print (Opens in new window)\n				Print\n			Like this:Like Loading...
URL:https://islingtonunited.org/event/board-game-cafe-3/
LOCATION:Burnhamthorpe Campus\, 25 Burnhamthorpe Road\, Etobicoke\, ON\, M9A 1G9\, Canada
CATEGORIES:All Events,Children,Community Event,Family,In Person,Programs,Seniors,Young Adult,Youth
ATTACH;FMTTYPE=image/png:https://islingtonunited.org/wp-content/uploads/2025/09/2025.09.12-Board-Game-Cafe.png
END:VEVENT
BEGIN:VEVENT
DTSTART;TZID=America/Toronto:20251014T100000
DTEND;TZID=America/Toronto:20251014T120000
DTSTAMP:20260420T081202
CREATED:20250910T193035Z
LAST-MODIFIED:20250910T193035Z
UID:72319-1760436000-1760443200@islingtonunited.org
SUMMARY:Stitch Together
DESCRIPTION:On Tuesdays from 10 to noon\, join our knitters and crocheters to work on your projects and socialize. Newcomers are always welcome. For more information about this program\, reach out to ministry@islingtonunited.org. \nShare:\n				Share on Facebook (Opens in new window)\n				Facebook\n			\n				Share on X (Opens in new window)\n				X\n			\n				Email a link to a friend (Opens in new window)\n				Email\n			\n				Print (Opens in new window)\n				Print\n			Like this:Like Loading...
URL:https://islingtonunited.org/event/stitch-together-5/
LOCATION:Burnhamthorpe Campus\, 25 Burnhamthorpe Road\, Etobicoke\, ON\, M9A 1G9\, Canada
CATEGORIES:All Events,In Person,Programs,Seniors
ATTACH;FMTTYPE=image/png:https://islingtonunited.org/wp-content/uploads/2025/09/Stitch-Together.png
END:VEVENT
BEGIN:VEVENT
DTSTART;TZID=America/Toronto:20251007T100000
DTEND;TZID=America/Toronto:20251007T120000
DTSTAMP:20260420T081202
CREATED:20250910T192936Z
LAST-MODIFIED:20250910T192936Z
UID:72317-1759831200-1759838400@islingtonunited.org
SUMMARY:Stitch Together
DESCRIPTION:On Tuesdays from 10 to noon\, join our knitters and crocheters to work on your projects and socialize. Newcomers are always welcome. For more information about this program\, reach out to ministry@islingtonunited.org. \nShare:\n				Share on Facebook (Opens in new window)\n				Facebook\n			\n				Share on X (Opens in new window)\n				X\n			\n				Email a link to a friend (Opens in new window)\n				Email\n			\n				Print (Opens in new window)\n				Print\n			Like this:Like Loading...
URL:https://islingtonunited.org/event/stitch-together-4/
LOCATION:Burnhamthorpe Campus\, 25 Burnhamthorpe Road\, Etobicoke\, ON\, M9A 1G9\, Canada
CATEGORIES:All Events,In Person,Programs,Seniors
ATTACH;FMTTYPE=image/png:https://islingtonunited.org/wp-content/uploads/2025/09/Stitch-Together.png
END:VEVENT
BEGIN:VEVENT
DTSTART;TZID=America/Toronto:20250930T100000
DTEND;TZID=America/Toronto:20250930T120000
DTSTAMP:20260420T081202
CREATED:20250910T192813Z
LAST-MODIFIED:20250910T192813Z
UID:72315-1759226400-1759233600@islingtonunited.org
SUMMARY:Stitch Together
DESCRIPTION:On Tuesdays from 10 to noon\, join our knitters and crocheters to work on your projects and socialize. Newcomers are always welcome. For more information about this program\, reach out to ministry@islingtonunited.org. \nShare:\n				Share on Facebook (Opens in new window)\n				Facebook\n			\n				Share on X (Opens in new window)\n				X\n			\n				Email a link to a friend (Opens in new window)\n				Email\n			\n				Print (Opens in new window)\n				Print\n			Like this:Like Loading...
URL:https://islingtonunited.org/event/stitch-together-3/
LOCATION:Burnhamthorpe Campus\, 25 Burnhamthorpe Road\, Etobicoke\, ON\, M9A 1G9\, Canada
CATEGORIES:All Events,In Person,Programs,Seniors
ATTACH;FMTTYPE=image/png:https://islingtonunited.org/wp-content/uploads/2025/09/Stitch-Together.png
END:VEVENT
BEGIN:VEVENT
DTSTART;TZID=America/Toronto:20250923T100000
DTEND;TZID=America/Toronto:20250923T120000
DTSTAMP:20260420T081202
CREATED:20250910T192706Z
LAST-MODIFIED:20250910T192706Z
UID:72313-1758621600-1758628800@islingtonunited.org
SUMMARY:Stitch Together
DESCRIPTION:On Tuesdays from 10 to noon\, join our knitters and crocheters to work on your projects and socialize. Newcomers are always welcome. For more information about this program\, reach out to ministry@islingtonunited.org. \nShare:\n				Share on Facebook (Opens in new window)\n				Facebook\n			\n				Share on X (Opens in new window)\n				X\n			\n				Email a link to a friend (Opens in new window)\n				Email\n			\n				Print (Opens in new window)\n				Print\n			Like this:Like Loading...
URL:https://islingtonunited.org/event/stitch-together-2/
LOCATION:Burnhamthorpe Campus\, 25 Burnhamthorpe Road\, Etobicoke\, ON\, M9A 1G9\, Canada
CATEGORIES:All Events,In Person,Programs,Seniors
ATTACH;FMTTYPE=image/png:https://islingtonunited.org/wp-content/uploads/2025/09/Stitch-Together.png
END:VEVENT
BEGIN:VEVENT
DTSTART;TZID=America/Toronto:20250916T100000
DTEND;TZID=America/Toronto:20250916T120000
DTSTAMP:20260420T081202
CREATED:20250910T192605Z
LAST-MODIFIED:20250910T192605Z
UID:72308-1758016800-1758024000@islingtonunited.org
SUMMARY:Stitch Together
DESCRIPTION:On Tuesdays from 10 to noon\, join our knitters and crocheters to work on your projects and socialize. Newcomers are always welcome. For more information about this program\, reach out to ministry@islingtonunited.org. \nShare:\n				Share on Facebook (Opens in new window)\n				Facebook\n			\n				Share on X (Opens in new window)\n				X\n			\n				Email a link to a friend (Opens in new window)\n				Email\n			\n				Print (Opens in new window)\n				Print\n			Like this:Like Loading...
URL:https://islingtonunited.org/event/stitch-together/
LOCATION:Burnhamthorpe Campus\, 25 Burnhamthorpe Road\, Etobicoke\, ON\, M9A 1G9\, Canada
CATEGORIES:All Events,In Person,Programs,Seniors
ATTACH;FMTTYPE=image/png:https://islingtonunited.org/wp-content/uploads/2025/09/Stitch-Together.png
END:VEVENT
BEGIN:VEVENT
DTSTART;TZID=America/Toronto:20250912T183000
DTEND;TZID=America/Toronto:20250912T203000
DTSTAMP:20260420T081202
CREATED:20250910T162803Z
LAST-MODIFIED:20250910T162803Z
UID:72141-1757701800-1757709000@islingtonunited.org
SUMMARY:Board Game Cafe
DESCRIPTION:All ages are welcome to join from 6:30pm to 8:30pm in the youth room for snacks and board games! Feel free to bring your favourite game or come try a new one! Get to know the community over a friendly (or competitive) game.\n\nShare:\n				Share on Facebook (Opens in new window)\n				Facebook\n			\n				Share on X (Opens in new window)\n				X\n			\n				Email a link to a friend (Opens in new window)\n				Email\n			\n				Print (Opens in new window)\n				Print\n			Like this:Like Loading...
URL:https://islingtonunited.org/event/board-game-cafe-2/
LOCATION:Burnhamthorpe Campus\, 25 Burnhamthorpe Road\, Etobicoke\, ON\, M9A 1G9\, Canada
CATEGORIES:All Events,Children,Community Event,Family,In Person,Programs,Seniors,Young Adult,Youth
ATTACH;FMTTYPE=image/png:https://islingtonunited.org/wp-content/uploads/2025/09/2025.09.12-Board-Game-Cafe.png
END:VEVENT
BEGIN:VEVENT
DTSTART;TZID=America/Toronto:20250211T140000
DTEND;TZID=America/Toronto:20250211T150000
DTSTAMP:20260420T081202
CREATED:20250122T165326Z
LAST-MODIFIED:20250122T165936Z
UID:69401-1739282400-1739286000@islingtonunited.org
SUMMARY:Islington Sings
DESCRIPTION:Calling all singers and lovers of music! Please join us for Islington Sings on Tuesday\, February 11 at 2:00 pm in the Sanctuary. We will combine our voices\, young and old\, as we sing songs of love and friendship including oldies\, ballads and show tunes. Jennifer Taverner will lead and Deb Bradley will accompany us on the piano. It will be casual and lots of fun. Bring a friend. Goodies to follow in the reception room. \nShare:\n				Share on Facebook (Opens in new window)\n				Facebook\n			\n				Share on X (Opens in new window)\n				X\n			\n				Email a link to a friend (Opens in new window)\n				Email\n			\n				Print (Opens in new window)\n				Print\n			Like this:Like Loading...
URL:https://islingtonunited.org/event/islington-sings-3/
LOCATION:Sanctuary
CATEGORIES:All Events,Community Event,In Person,Music,Seniors
ATTACH;FMTTYPE=image/png:https://islingtonunited.org/wp-content/uploads/2025/01/February-11-2025-1.png
END:VEVENT
BEGIN:VEVENT
DTSTART;TZID=America/Toronto:20241210T123000
DTEND;TZID=America/Toronto:20241210T140000
DTSTAMP:20260420T081202
CREATED:20241204T210045Z
LAST-MODIFIED:20241204T210045Z
UID:68242-1733833800-1733839200@islingtonunited.org
SUMMARY:Men's Gathering
DESCRIPTION:We invite all men in the Congregation and friends to meet on Tuesday December 10 from 12:30 until 2:00 for a time of Christmas fellowship and then to join in a fun time of Carol singing with “Islington Sings” from 2:30 – 3:30.  \nShare:\n				Share on Facebook (Opens in new window)\n				Facebook\n			\n				Share on X (Opens in new window)\n				X\n			\n				Email a link to a friend (Opens in new window)\n				Email\n			\n				Print (Opens in new window)\n				Print\n			Like this:Like Loading...
URL:https://islingtonunited.org/event/mens-gathering/
LOCATION:Islington United Church
CATEGORIES:All Events,Community Event,In Person,Seniors
ATTACH;FMTTYPE=image/png:https://islingtonunited.org/wp-content/uploads/2024/12/Mens-gathering.png
END:VEVENT
BEGIN:VEVENT
DTSTART;TZID=America/Toronto:20241210T123000
DTEND;TZID=America/Toronto:20241210T140000
DTSTAMP:20260420T081202
CREATED:20241204T205729Z
LAST-MODIFIED:20241204T205729Z
UID:68237-1733833800-1733839200@islingtonunited.org
SUMMARY:United Church Women's Gathering
DESCRIPTION:We invite all UCW (United Church Women) members\, and anyone who would like to join us\, to meet on Tuesday December 10th from 12:30 until 2:00 for our Christmas meeting and then to join in a fun time of Carol singing with “Islington Sings” from 2:30-3:30.  \nShare:\n				Share on Facebook (Opens in new window)\n				Facebook\n			\n				Share on X (Opens in new window)\n				X\n			\n				Email a link to a friend (Opens in new window)\n				Email\n			\n				Print (Opens in new window)\n				Print\n			Like this:Like Loading...
URL:https://islingtonunited.org/event/united-church-womens-gathering/
LOCATION:ON
CATEGORIES:All Events,Community Event,In Person,Seniors
ATTACH;FMTTYPE=image/png:https://islingtonunited.org/wp-content/uploads/2024/12/UCW.png
END:VEVENT
END:VCALENDAR