BEGIN:VCALENDAR
VERSION:2.0
PRODID:-//Islington United Church - ECPv6.15.20//NONSGML v1.0//EN
CALSCALE:GREGORIAN
METHOD:PUBLISH
X-WR-CALNAME:Islington United Church
X-ORIGINAL-URL:https://islingtonunited.org
X-WR-CALDESC:Events for Islington United Church
REFRESH-INTERVAL;VALUE=DURATION:PT1H
X-Robots-Tag:noindex
X-PUBLISHED-TTL:PT1H
BEGIN:VTIMEZONE
TZID:America/Toronto
BEGIN:DAYLIGHT
TZOFFSETFROM:-0500
TZOFFSETTO:-0400
TZNAME:EDT
DTSTART:20250309T070000
END:DAYLIGHT
BEGIN:STANDARD
TZOFFSETFROM:-0400
TZOFFSETTO:-0500
TZNAME:EST
DTSTART:20251102T060000
END:STANDARD
BEGIN:DAYLIGHT
TZOFFSETFROM:-0500
TZOFFSETTO:-0400
TZNAME:EDT
DTSTART:20260308T070000
END:DAYLIGHT
BEGIN:STANDARD
TZOFFSETFROM:-0400
TZOFFSETTO:-0500
TZNAME:EST
DTSTART:20261101T060000
END:STANDARD
BEGIN:DAYLIGHT
TZOFFSETFROM:-0500
TZOFFSETTO:-0400
TZNAME:EDT
DTSTART:20270314T070000
END:DAYLIGHT
BEGIN:STANDARD
TZOFFSETFROM:-0400
TZOFFSETTO:-0500
TZNAME:EST
DTSTART:20271107T060000
END:STANDARD
END:VTIMEZONE
BEGIN:VEVENT
DTSTART;VALUE=DATE:20260419
DTEND;VALUE=DATE:20260526
DTSTAMP:20260423T134806
CREATED:20260422T151040Z
LAST-MODIFIED:20260422T154224Z
UID:74515-1776560400-1779670799@islingtonunited.org
SUMMARY:Noisy Sunday
DESCRIPTION:What is Noisy Sunday? \n			\n			\n				\n				\n				\n				\n			\n				\n				\n				\n				\n				\n				\n				\n				\n				\n				\n				A Fundraiser! \n\n			\n				\n				\n				\n				\n				For 5 weeks\, you are invited to collect coins in your Noisy Sunday Jar to raise funds to support of our children\, youth\, and young adult ministry at IUC. On May 24 – Noisy Sunday – bring your jars back to celebrate with us\, shake your jars\, and make some noise! \n			\n			\n				\n				\n				\n				\n				\n				\n				\n				\n				\n				An Opportunity to Know our Children and Youth \n			\n				\n				\n				\n				\n				Inside your jar or envelope is one young person from our community for you to be praying for. You are invited to write notes\, prayers\, encouragements\, or whatever your gift may be\, for this young person and return them with your jar of coins on Noisy Sunday. \n			\n			\n				\n				\n				\n				\n				\n				\n				\n				\n				\n				A Celebration! \n\n			\n				\n				\n				\n				\n				Children\, Youth\, and Young Adult Ministry is vital to the future of the church. Join us in celebrating this ministry on May 24th by bringing back your jars and worshipping with our young people and families together! Thank you for your generousity. \n			\n			\n				\n				\n				\n				\n			\n				\n				\n				\n				\n				\n				\n				\n				\n				\n				\n				\n			\n			\n				\n				\n				\n				\n			\n				\n				\n				\n				\n				\n				\n				\n				\n				\n				\n				FAQs \n			\n				\n				\n				\n				\n				\n				\n				\n				\n				\n				What if I didn't get a jar?\n				If you did not receive a jar or envelope\, you can come by the church office this week to collect one\, or email families@islingtonunited.org for a child to pray for. \n			\n				\n				\n				\n				\n				What if I don't have coins?\n				We know many people don’t have many coins these days. You can take an envelope instead and donate cheques or bills. You are also welcome to donate online or e-transfer give@islingtonunited.org noting “Noisy Sunday” in the memo field. \n			\n				\n				\n				\n				\n				Can I get a tax receipt for my donation of coins?\n				Yes. If you would like a tax receipt\, please include your name inside your jar or envelope. \n			\n				\n				\n				\n				\n				How can I continue my relationship with the children after Noisy Sunday?\n				Noisy Sunday is just the first step to getting to know at least one child in the IUC community by name. We encourage you to say hello to the children you are praying at church\, get to know them\, and pray for them often! Remember your baptism vows to support the young ones in our church and don’t be afraid to reach out and connect with our young families. \n			\n			\n			\n				\n				\n				\n				\n			\n				\n				\n			\nShare:\n				Share on Facebook (Opens in new window)\n				Facebook\n			\n				Share on X (Opens in new window)\n				X\n			\n				Email a link to a friend (Opens in new window)\n				Email\n			\n				Print (Opens in new window)\n				Print\n			Like this:Like Loading...
URL:https://islingtonunited.org/event/noisy-sunday/
LOCATION:Burnhamthorpe Campus\, 25 Burnhamthorpe Road\, Etobicoke\, ON\, M9A 1G9\, Canada
CATEGORIES:All Events,Children,Family,Fundraiser,In Person,Online,Young Adult,Youth
ATTACH;FMTTYPE=image/png:https://islingtonunited.org/wp-content/uploads/2026/04/Noisy-Sunday-1.png
END:VEVENT
BEGIN:VEVENT
DTSTART;TZID=America/Toronto:20260430T171500
DTEND;TZID=America/Toronto:20260430T184500
DTSTAMP:20260423T134806
CREATED:20241217T161051Z
LAST-MODIFIED:20260423T161704Z
UID:68948-1777569300-1777574700@islingtonunited.org
SUMMARY:Children's Chorus and Family Dinner
DESCRIPTION:Children ages 6+ are welcome to join us for children’s chorus. Rehearsal take place on Thursday evening with dinner for the whole family starting at 5:15pm and rehearsal from 5:45-6:45pm. Newcomers are welcome! Please reach out to Brianna Coutlee at families@islingtonunited.org if you would like to participate in our spring season. \nShare:\n				Share on Facebook (Opens in new window)\n				Facebook\n			\n				Share on X (Opens in new window)\n				X\n			\n				Email a link to a friend (Opens in new window)\n				Email\n			\n				Print (Opens in new window)\n				Print\n			Like this:Like Loading...
URL:https://islingtonunited.org/event/childrens-chorus-2/
LOCATION:Islington United Church
CATEGORIES:Children,Choir,Chorus,Family,In Person,Music,Programs
ATTACH;FMTTYPE=image/png:https://islingtonunited.org/wp-content/uploads/2024/12/childrens-chorus.png
ORGANIZER;CN="Jason Locke":MAILTO:jason@islingtonunited.org
END:VEVENT
BEGIN:VEVENT
DTSTART;TZID=America/Toronto:20260503T173000
DTEND;TZID=America/Toronto:20260503T200000
DTSTAMP:20260423T134806
CREATED:20250910T200829Z
LAST-MODIFIED:20250910T200829Z
UID:72380-1777829400-1777838400@islingtonunited.org
SUMMARY:Resonance
DESCRIPTION:All are welcome to join us for dinner at 5:30pm followed by a contemporary worship service at 7:00pm. \nShare:\n				Share on Facebook (Opens in new window)\n				Facebook\n			\n				Share on X (Opens in new window)\n				X\n			\n				Email a link to a friend (Opens in new window)\n				Email\n			\n				Print (Opens in new window)\n				Print\n			Like this:Like Loading...
URL:https://islingtonunited.org/event/resonance-11/
LOCATION:Burnhamthorpe Campus\, 25 Burnhamthorpe Road\, Etobicoke\, ON\, M9A 1G9\, Canada
CATEGORIES:All Events,Community Event,In Person,Music,Resonance,Worship Service,Young Adult
ATTACH;FMTTYPE=image/png:https://islingtonunited.org/wp-content/uploads/2024/11/resonanc.png
END:VEVENT
BEGIN:VEVENT
DTSTART;TZID=America/Toronto:20260505T120000
DTEND;TZID=America/Toronto:20260505T143000
DTSTAMP:20260423T134806
CREATED:20250916T151442Z
LAST-MODIFIED:20251218T204639Z
UID:72486-1777982400-1777991400@islingtonunited.org
SUMMARY:Bridge
DESCRIPTION:Join the Bridge group on Tuesday from noon to 2:30 pm in the Chapel to play some cards. Some experience required; the group will not be teaching how to play bridge. \nShare:\n				Share on Facebook (Opens in new window)\n				Facebook\n			\n				Share on X (Opens in new window)\n				X\n			\n				Email a link to a friend (Opens in new window)\n				Email\n			\n				Print (Opens in new window)\n				Print\n			Like this:Like Loading...
URL:https://islingtonunited.org/event/bridge-14/
LOCATION:Burnhamthorpe Campus\, 25 Burnhamthorpe Road\, Etobicoke\, ON\, M9A 1G9\, Canada
CATEGORIES:All Events,In Person,Programs,Seniors
ATTACH;FMTTYPE=image/png:https://islingtonunited.org/wp-content/uploads/2025/09/Bridge-1.png
END:VEVENT
BEGIN:VEVENT
DTSTART;TZID=America/Toronto:20260607T173000
DTEND;TZID=America/Toronto:20260607T190000
DTSTAMP:20260423T134806
CREATED:20250910T200937Z
LAST-MODIFIED:20260225T151422Z
UID:72382-1780853400-1780858800@islingtonunited.org
SUMMARY:Resonance
DESCRIPTION:All are welcome to join us for dinner at 5:30pm followed by a contemporary worship service at 7:00pm. \n \n			\n				\n				\n				\n				\n				\n			\n			\n				\n				\n				\n				\n			\n				\n				\n			\nShare:\n				Share on Facebook (Opens in new window)\n				Facebook\n			\n				Share on X (Opens in new window)\n				X\n			\n				Email a link to a friend (Opens in new window)\n				Email\n			\n				Print (Opens in new window)\n				Print\n			Like this:Like Loading...
URL:https://islingtonunited.org/event/resonance-12/
LOCATION:Burnhamthorpe Campus\, 25 Burnhamthorpe Road\, Etobicoke\, ON\, M9A 1G9\, Canada
CATEGORIES:All Events,Community Event,In Person,Music,Resonance,Worship Service,Young Adult
ATTACH;FMTTYPE=image/png:https://islingtonunited.org/wp-content/uploads/2024/11/resonanc.png
END:VEVENT
END:VCALENDAR