BEGIN:VCALENDAR
VERSION:2.0
PRODID:-//Islington United Church - ECPv6.15.20//NONSGML v1.0//EN
CALSCALE:GREGORIAN
METHOD:PUBLISH
X-ORIGINAL-URL:https://islingtonunited.org
X-WR-CALDESC:Events for Islington United Church
REFRESH-INTERVAL;VALUE=DURATION:PT1H
X-Robots-Tag:noindex
X-PUBLISHED-TTL:PT1H
BEGIN:VTIMEZONE
TZID:America/Toronto
BEGIN:DAYLIGHT
TZOFFSETFROM:-0500
TZOFFSETTO:-0400
TZNAME:EDT
DTSTART:20250309T070000
END:DAYLIGHT
BEGIN:STANDARD
TZOFFSETFROM:-0400
TZOFFSETTO:-0500
TZNAME:EST
DTSTART:20251102T060000
END:STANDARD
BEGIN:DAYLIGHT
TZOFFSETFROM:-0500
TZOFFSETTO:-0400
TZNAME:EDT
DTSTART:20260308T070000
END:DAYLIGHT
BEGIN:STANDARD
TZOFFSETFROM:-0400
TZOFFSETTO:-0500
TZNAME:EST
DTSTART:20261101T060000
END:STANDARD
BEGIN:DAYLIGHT
TZOFFSETFROM:-0500
TZOFFSETTO:-0400
TZNAME:EDT
DTSTART:20270314T070000
END:DAYLIGHT
BEGIN:STANDARD
TZOFFSETFROM:-0400
TZOFFSETTO:-0500
TZNAME:EST
DTSTART:20271107T060000
END:STANDARD
END:VTIMEZONE
BEGIN:VEVENT
DTSTART;TZID=America/Toronto:20260402T173000
DTEND;TZID=America/Toronto:20260402T190000
DTSTAMP:20260424T112554
CREATED:20260312T133803Z
LAST-MODIFIED:20260312T134026Z
UID:74071-1775151000-1775156400@islingtonunited.org
SUMMARY:Maundy Thursday Dinner
DESCRIPTION:Join us on Thursday April 2 at 5:30pm in Stewart East Hall for Maundy Thursday Dinner. Following the dinner\, we will move into the sanctuary for Maundy Thursday worship service at 7pm. \nPlease enable JavaScript in your browser to complete this form.Name *FirstLastEmail *Checkbox Items *One ticket - $30.00Two tickets - $60.00Child under 12 years - $15.00Two children under 12 years - $30.00Family package - $75.00Donation to allow others to attend - $15.00Donation to allow others to attend - $30.00Total$0.00Total number of seats required *Dietary Needs *Describe any special dietary needs and the number in your party that have them (e.g.\, nut allergy - 1 person; gluten-free - 1 person; Halal - 2 people) or indicate NONE.Credit Card/VISA Debit Information *CardName on CardSubmit  \nShare:\n				Share on Facebook (Opens in new window)\n				Facebook\n			\n				Share on X (Opens in new window)\n				X\n			\n				Email a link to a friend (Opens in new window)\n				Email\n			\n				Print (Opens in new window)\n				Print\n			Like this:Like Loading...
URL:https://islingtonunited.org/event/maundy-thursday-dinner-2/
LOCATION:Islington United Church
ATTACH;FMTTYPE=image/png:https://islingtonunited.org/wp-content/uploads/2026/03/April-6-2023-1.png
END:VEVENT
BEGIN:VEVENT
DTSTART;TZID=America/Toronto:20260402T190000
DTEND;TZID=America/Toronto:20260402T200000
DTSTAMP:20260424T112554
CREATED:20260325T163607Z
LAST-MODIFIED:20260325T163607Z
UID:74217-1775156400-1775160000@islingtonunited.org
SUMMARY:Maundy Thursday Service
DESCRIPTION:Join us tonight at 7pm\, in-person or online for our Maundy Thursday worship service. \nShare:\n				Share on Facebook (Opens in new window)\n				Facebook\n			\n				Share on X (Opens in new window)\n				X\n			\n				Email a link to a friend (Opens in new window)\n				Email\n			\n				Print (Opens in new window)\n				Print\n			Like this:Like Loading...
URL:https://islingtonunited.org/event/maundy-thursday-service-2/
LOCATION:Islington United Church
ATTACH;FMTTYPE=image/png:https://islingtonunited.org/wp-content/uploads/2026/03/April-2-2026-1.png
END:VEVENT
END:VCALENDAR